BEGIN:VCALENDAR
VERSION:2.0
PRODID:-//eventon.com NONSGML v1.0//EN
CALSCALE:GREGORIAN
METHOD:PUBLISH
BEGIN:VEVENT
UID:69e74596b66d0
DTSTAMP:20260421T093830Z
DTSTART:20220129T190000Z
DTEND:20220128T230000Z
LOCATION:
SUMMARY:Live Musik Sundowner
DESCRIPTION:Ab 20:00 Uhr Live! Damit einem super Abend nichts im Weg steht 
 gibt es ein paar Grundregeln. Bitte haltet euch dran und Unterstützt uns d
 abei die Auflagen umzusetzen: &#8211; Eintritt nur mit der 3 G-Regel (Geimp
 ft\,  Genesen\,  getestet) Bitte habt eure Nachweise dabei und zeigt diese 
 gleich von selbst vor![..]\nhttps://queens-wasserburg.de/events/live-musik-
 sundowner/
URL:https://queens-wasserburg.de/events/live-musik-sundowner/
END:VEVENT
END:VCALENDAR